BEGIN:VCALENDAR
VERSION:2.0
PRODID:-//Game Haven Events - ECPv6.15.17.1//NONSGML v1.0//EN
CALSCALE:GREGORIAN
METHOD:PUBLISH
X-WR-CALNAME:Game Haven Events
X-ORIGINAL-URL:https://events.yourgamehaven.com
X-WR-CALDESC:Events for Game Haven Events
REFRESH-INTERVAL;VALUE=DURATION:PT1H
X-Robots-Tag:noindex
X-PUBLISHED-TTL:PT1H
BEGIN:VTIMEZONE
TZID:America/Denver
BEGIN:DAYLIGHT
TZOFFSETFROM:-0700
TZOFFSETTO:-0600
TZNAME:MDT
DTSTART:20250309T090000
END:DAYLIGHT
BEGIN:STANDARD
TZOFFSETFROM:-0600
TZOFFSETTO:-0700
TZNAME:MST
DTSTART:20251102T080000
END:STANDARD
BEGIN:DAYLIGHT
TZOFFSETFROM:-0700
TZOFFSETTO:-0600
TZNAME:MDT
DTSTART:20260308T090000
END:DAYLIGHT
BEGIN:STANDARD
TZOFFSETFROM:-0600
TZOFFSETTO:-0700
TZNAME:MST
DTSTART:20261101T080000
END:STANDARD
BEGIN:DAYLIGHT
TZOFFSETFROM:-0700
TZOFFSETTO:-0600
TZNAME:MDT
DTSTART:20270314T090000
END:DAYLIGHT
BEGIN:STANDARD
TZOFFSETFROM:-0600
TZOFFSETTO:-0700
TZNAME:MST
DTSTART:20271107T080000
END:STANDARD
END:VTIMEZONE
BEGIN:VEVENT
DTSTART;TZID=America/Denver:20260530T174500
DTEND;TZID=America/Denver:20260530T214500
DTSTAMP:20260421T073759
CREATED:20260421T075505Z
LAST-MODIFIED:20260421T125551Z
UID:7794-1780163100-1780177500@events.yourgamehaven.com
SUMMARY:Wargaming Night [05/30/2026]
DESCRIPTION:
URL:https://events.yourgamehaven.com/event/wargaming-night-05-30-2026/
LOCATION:Bountiful\, 273 W 500 S Unit 5-6\, Bountiful\, UT\, 84010\, United States
END:VEVENT
BEGIN:VEVENT
DTSTART;TZID=America/Denver:20260530T183000
DTEND;TZID=America/Denver:20260530T220000
DTSTAMP:20260421T073759
CREATED:20260421T075505Z
LAST-MODIFIED:20260421T125552Z
UID:7795-1780165800-1780178400@events.yourgamehaven.com
SUMMARY:Yu-Gi-Oh Paid Tournament [05/30/2026]
DESCRIPTION:
URL:https://events.yourgamehaven.com/event/yu-gi-oh-paid-tournament-05-30-2026/
LOCATION:Bountiful\, 273 W 500 S Unit 5-6\, Bountiful\, UT\, 84010\, United States
END:VEVENT
BEGIN:VEVENT
DTSTART;TZID=America/Denver:20260530T183000
DTEND;TZID=America/Denver:20260530T220000
DTSTAMP:20260421T073759
CREATED:20260421T075511Z
LAST-MODIFIED:20260421T125556Z
UID:7797-1780165800-1780178400@events.yourgamehaven.com
SUMMARY:Social Deduction [05/30/2026]
DESCRIPTION:
URL:https://events.yourgamehaven.com/event/social-deduction-05-30-2026/
LOCATION:Sandy\, 9860 S 700 E Unit 1\, Sandy\, UT\, 84070\, United States
END:VEVENT
BEGIN:VEVENT
DTSTART;TZID=America/Denver:20260530T183000
DTEND;TZID=America/Denver:20260530T223000
DTSTAMP:20260421T073759
CREATED:20260421T075511Z
LAST-MODIFIED:20260421T125556Z
UID:7798-1780165800-1780180200@events.yourgamehaven.com
SUMMARY:Altered Weekly Play [05/30/2026]
DESCRIPTION:
URL:https://events.yourgamehaven.com/event/altered-weekly-play-05-30-2026/
LOCATION:Sandy\, 9860 S 700 E Unit 1\, Sandy\, UT\, 84070\, United States
END:VEVENT
END:VCALENDAR